BEGIN:VCALENDAR
VERSION:2.0
PRODID:-//AREA CENTRE-VAL DE LOIRE - ECPv6.15.11//NONSGML v1.0//EN
CALSCALE:GREGORIAN
METHOD:PUBLISH
X-ORIGINAL-URL:https://area-centre.org
X-WR-CALDESC:Évènements pour AREA CENTRE-VAL DE LOIRE
REFRESH-INTERVAL;VALUE=DURATION:PT1H
X-Robots-Tag:noindex
X-PUBLISHED-TTL:PT1H
BEGIN:VTIMEZONE
TZID:Europe/Paris
BEGIN:DAYLIGHT
TZOFFSETFROM:+0100
TZOFFSETTO:+0200
TZNAME:CEST
DTSTART:20250330T010000
END:DAYLIGHT
BEGIN:STANDARD
TZOFFSETFROM:+0200
TZOFFSETTO:+0100
TZNAME:CET
DTSTART:20251026T010000
END:STANDARD
BEGIN:DAYLIGHT
TZOFFSETFROM:+0100
TZOFFSETTO:+0200
TZNAME:CEST
DTSTART:20260329T010000
END:DAYLIGHT
BEGIN:STANDARD
TZOFFSETFROM:+0200
TZOFFSETTO:+0100
TZNAME:CET
DTSTART:20261025T010000
END:STANDARD
BEGIN:DAYLIGHT
TZOFFSETFROM:+0100
TZOFFSETTO:+0200
TZNAME:CEST
DTSTART:20270328T010000
END:DAYLIGHT
BEGIN:STANDARD
TZOFFSETFROM:+0200
TZOFFSETTO:+0100
TZNAME:CET
DTSTART:20271031T010000
END:STANDARD
END:VTIMEZONE
BEGIN:VEVENT
DTSTART;TZID=Europe/Paris:20261102T133000
DTEND;TZID=Europe/Paris:20261103T170000
DTSTAMP:20260421T102731
CREATED:20251210T074309Z
LAST-MODIFIED:20251210T074336Z
UID:20542-1793626200-1793725200@area-centre.org
SUMMARY:Étiquetage des denrées alimentaires – Bases essentielles et approfondissement
DESCRIPTION:Objectifs \n\n\n\n• Définir les enjeux de la réglementation relative à l’étiquetage \n\n\n\n• Analyser les obligations en matière d’étiquetage des denrées sur les points particuliers de dénomination\, liste des ingrédients\, les mentions d’origine et la déclaration nutritionnelle \n\n\n\nPublic visé \n\n\n\nService qualité\, R&D et marketing \n\n\n\nIntervenant \n\n\n\nIngénieur au sein de Mérieux NutriSciences \n\n\n\nDurée \n\n\n\n2 sessions de 3h30 (soit 7h) en distanciel (13h30 à 17h) \n\n\n\n\nVoir Programme / Coût
URL:https://area-centre.org/evenement/etiquetage-des-denrees-alimentaires-bases-essentielles-et-approfondissement-2/
CATEGORIES:Formation
END:VEVENT
END:VCALENDAR