BEGIN:VCALENDAR
VERSION:2.0
PRODID:-//AREA CENTRE-VAL DE LOIRE - ECPv6.15.11//NONSGML v1.0//EN
CALSCALE:GREGORIAN
METHOD:PUBLISH
X-ORIGINAL-URL:https://area-centre.org
X-WR-CALDESC:Évènements pour AREA CENTRE-VAL DE LOIRE
REFRESH-INTERVAL;VALUE=DURATION:PT1H
X-Robots-Tag:noindex
X-PUBLISHED-TTL:PT1H
BEGIN:VTIMEZONE
TZID:Europe/Paris
BEGIN:DAYLIGHT
TZOFFSETFROM:+0100
TZOFFSETTO:+0200
TZNAME:CEST
DTSTART:20250330T010000
END:DAYLIGHT
BEGIN:STANDARD
TZOFFSETFROM:+0200
TZOFFSETTO:+0100
TZNAME:CET
DTSTART:20251026T010000
END:STANDARD
BEGIN:DAYLIGHT
TZOFFSETFROM:+0100
TZOFFSETTO:+0200
TZNAME:CEST
DTSTART:20260329T010000
END:DAYLIGHT
BEGIN:STANDARD
TZOFFSETFROM:+0200
TZOFFSETTO:+0100
TZNAME:CET
DTSTART:20261025T010000
END:STANDARD
BEGIN:DAYLIGHT
TZOFFSETFROM:+0100
TZOFFSETTO:+0200
TZNAME:CEST
DTSTART:20270328T010000
END:DAYLIGHT
BEGIN:STANDARD
TZOFFSETFROM:+0200
TZOFFSETTO:+0100
TZNAME:CET
DTSTART:20271031T010000
END:STANDARD
END:VTIMEZONE
BEGIN:VEVENT
DTSTART;TZID=Europe/Paris:20260428T090000
DTEND;TZID=Europe/Paris:20260429T163000
DTSTAMP:20260421T114938
CREATED:20251209T163110Z
LAST-MODIFIED:20251209T163127Z
UID:20460-1777366800-1777480200@area-centre.org
SUMMARY:Les fondamentaux sur les usages d’énergies
DESCRIPTION:Objectifs \n\n\n\n• Identifier les équipements intervenants dans la production des utilités \n\n\n\n• Quantifier les flux génétiques et l’efficacité des réseaux électriques et fluides \n\n\n\nPublic visé \n\n\n\nResponsables et techniciens des services maintenance\, moyens généraux\, sécurité\, environnement\, acheteurs techniques\, personnels en charge de la sécurité et de l’optimisation des consommations énergétiques des réseaux et utilités \n\n\n\nIntervenant \n\n\n\nFormateur expert au sein du CIMI \n\n\n\nDurée \n\n\n\n2 sessions de 7h (soit 14h) en présentiel à Blois (9h à 16h30) \n\n\n\n\nVoir Programme / Coût
URL:https://area-centre.org/evenement/les-fondamentaux-sur-les-usages-denergies-3/
CATEGORIES:Formation
END:VEVENT
BEGIN:VEVENT
DTSTART;TZID=Europe/Paris:20260505T090000
DTEND;TZID=Europe/Paris:20260506T163000
DTSTAMP:20260421T114938
CREATED:20251209T163351Z
LAST-MODIFIED:20251209T163405Z
UID:20463-1777971600-1778085000@area-centre.org
SUMMARY:Introduction à la robotique industrielle
DESCRIPTION:Objectifs \n\n\n\n• Identifier les différents types de robots industriels et leurs applications \n\n\n\n• Comprendre les notions de repères\, d’outils et de trajectoires \n\n\n\n• Identifier les types de solutions de gestion de la sécurité \n\n\n\nPublic visé \n\n\n\nToute personne désirant découvrir la robotique \n\n\n\nIntervenant \n\n\n\nFormateur expert au sein du CIMI \n\n\n\nDurée \n\n\n\n2 sessions de 7h (soit 14h) en présentiel à Blois (9h à 16h30) \n\n\n\n\nVoir Programme / Coût
URL:https://area-centre.org/evenement/introduction-a-la-robotique-industrielle-3/
CATEGORIES:Formation
END:VEVENT
BEGIN:VEVENT
DTSTART;TZID=Europe/Paris:20260505T090000
DTEND;TZID=Europe/Paris:20260506T163000
DTSTAMP:20260421T114938
CREATED:20251209T163634Z
LAST-MODIFIED:20251210T074023Z
UID:20465-1777971600-1778085000@area-centre.org
SUMMARY:Vision Cognex : maintenance d’une application
DESCRIPTION:Objectifs \n\n\n\n• Identifier les causes d’un mauvais fonctionnement \n\n\n\n• Exploiter Insight Explorer ou EasyBuilder selon le modèle de caméra : régler des outils de détection\, sauvegarder / restaurer une application \n\n\n\n• Remplacer ou recaler une caméra \n\n\n\nPublic visé \n\n\n\nTechniciens appelés à intervenir sur systèmes de vision industrielle \n\n\n\nIntervenant \n\n\n\nFormateur expert au sein du CIMI \n\n\n\nDurée \n\n\n\n2 sessions de 7h (soit 14h) en présentiel à Blois (9h à 16h30) \n\n\n\n\nVoir Programme / Coût
URL:https://area-centre.org/evenement/vision-cognex-maintenance-dune-application-3/
CATEGORIES:Formation
END:VEVENT
BEGIN:VEVENT
DTSTART;TZID=Europe/Paris:20260521T090000
DTEND;TZID=Europe/Paris:20260521T120000
DTSTAMP:20260421T114938
CREATED:20251209T163931Z
LAST-MODIFIED:20251210T072144Z
UID:20468-1779354000-1779364800@area-centre.org
SUMMARY:Additifs\, Auxiliaires technologiques & réglementation
DESCRIPTION:Objectifs \n\n\n\n• Approfondir la règlementation additif\, pour pouvoir maîtriser les subtilités d’utilisation\, les questions d’étiquetage\, mais également être plus à l’aise avec la détermination de la frontière additifs / ingrédients / auxiliaires technologiques \n\n\n\nPublic visé \n\n\n\nResponsable R&D\, Qualité\, Marketing et réglementation des entreprises alimentaires \n\n\n\nIntervenant \n\n\n\nConsultant au sein du cabinet Nutrimarketing \n\n\n\nDurée \n\n\n\n1 session de 3h en distanciel (9h à 12h) \n\n\n\n\nVoir Programme / Coût
URL:https://area-centre.org/evenement/additifs-auxiliaires-technologiques-reglementation/
CATEGORIES:Formation
END:VEVENT
BEGIN:VEVENT
DTSTART;TZID=Europe/Paris:20260527T090000
DTEND;TZID=Europe/Paris:20260528T163000
DTSTAMP:20260421T114938
CREATED:20251209T164247Z
LAST-MODIFIED:20251210T072358Z
UID:20471-1779872400-1779985800@area-centre.org
SUMMARY:Vision Keyence : maintenance d’une application
DESCRIPTION:Objectifs \n\n\n\n• Identifier les causes d’un mauvais fonctionnement \n\n\n\n• Régler les outils de détection \n\n\n\n• Sauvegarder et restaurer une application \n\n\n\n• Remplacer ou recaler une caméra \n\n\n\nPublic visé \n\n\n\nTechniciens appelés à intervenir sur systèmes de vision industrielle \n\n\n\nIntervenant \n\n\n\nFormateur expert au sein du CIMI \n\n\n\nDurée \n\n\n\n2 sessions de 7h (soit 14h) en présentiel à Blois (9h à 16h30) \n\n\n\n\nVoir Programme / Coût
URL:https://area-centre.org/evenement/vision-keyence-maintenance-dune-application-3/
CATEGORIES:Formation
END:VEVENT
BEGIN:VEVENT
DTSTART;TZID=Europe/Paris:20260603T133000
DTEND;TZID=Europe/Paris:20260604T170000
DTSTAMP:20260421T114938
CREATED:20251209T164537Z
LAST-MODIFIED:20251209T164551Z
UID:20475-1780493400-1780592400@area-centre.org
SUMMARY:IFS Food version 8 : exigences et application
DESCRIPTION:Objectifs \n\n\n\n• Identifier les exigences du référentiel \n\n\n\n• Identifier les différences et similitudes avec d’autres référentiels \n\n\n\n• Savoir interpréter les exigences du référentiel IFS v8 \n\n\n\n• Connaître les modalités d’audit IFS \n\n\n\nPublic visé \n\n\n\nResponsable et collaborateurs des services Qualité\, Production\, R&DDirection \n\n\n\nIntervenant \n\n\n\nIngénieur expert du CTCPA \n\n\n\nDurée \n\n\n\n2 sessions de 3h30 (soit 7h) en distanciel (13h30 à 17h) \n\n\n\n\nVoir Programme / Coût
URL:https://area-centre.org/evenement/ifs-food-version-8-exigences-et-application-2/
CATEGORIES:Formation
END:VEVENT
BEGIN:VEVENT
DTSTART;TZID=Europe/Paris:20260604T090000
DTEND;TZID=Europe/Paris:20260605T123000
DTSTAMP:20260421T114938
CREATED:20251209T164850Z
LAST-MODIFIED:20251209T164909Z
UID:20478-1780563600-1780662600@area-centre.org
SUMMARY:Mieux attirer les candidats grâce à sa stratégie de recrutement
DESCRIPTION:Objectifs \n\n\n\n• Questionner leurs pratiques actuelles et les faire évoluer pour mieux attirer de candidats \n\n\n\n• Identifier les tendances actuelles \n\n\n\n• Définir sa stratégie de recrutement et son approches candidats \n\n\n\n• Choisir les méthodes et outils de recrutement les plus adaptés selon son entreprise et ses postes \n\n\n\nPublic visé \n\n\n\nToutes fonctions RH ou Managers opérationnels en charge de recrutements\, Dirigeants ; Directeur d’établissement \n\n\n\nIntervenant \n\n\n\nManager consultant au sein du cabinet Actiforces \n\n\n\nDurée \n\n\n\n2 sessions de 3h30 (soit 7h) en distanciel (9h à 12h30) \n\n\n\n\nVoir Programme / Coût
URL:https://area-centre.org/evenement/mieux-attirer-les-candidats-grace-a-sa-strategie-de-recrutement/
CATEGORIES:Formation
END:VEVENT
BEGIN:VEVENT
DTSTART;TZID=Europe/Paris:20260615T133000
DTEND;TZID=Europe/Paris:20260616T170000
DTSTAMP:20260421T114938
CREATED:20251209T165114Z
LAST-MODIFIED:20251210T070320Z
UID:20482-1781530200-1781629200@area-centre.org
SUMMARY:Étiquetage des denrées alimentaires - Perfectionnement
DESCRIPTION:Objectifs \n\n\n\n• Maîtriser les obligations en matière d’étiquetage des denrées sur les points particuliers de dénomination\, liste des ingrédients\, mentions d’origine et déclaration nutritionnelle \n\n\n\n• Examiner les mentions volontaires et justifier l’emploi d’allégations \n\n\n\nPublic visé \n\n\n\nService qualité et R&D \n\n\n\nIntervenant \n\n\n\nIngénieur au sein de Mérieux NutriSciences \n\n\n\nDurée \n\n\n\n2 sessions de 3h30 (soit 7h) en distanciel (13h30 à 17h) \n\n\n\n\nVoir Programme / Coût
URL:https://area-centre.org/evenement/etiquetage-des-denrees-alimentaires-perfectionnement-2/
CATEGORIES:Formation
END:VEVENT
BEGIN:VEVENT
DTSTART;TZID=Europe/Paris:20260625T180000
DTEND;TZID=Europe/Paris:20260625T230000
DTSTAMP:20260421T114938
CREATED:20260414T121422Z
LAST-MODIFIED:20260414T121652Z
UID:21057-1782410400-1782428400@area-centre.org
SUMMARY:Soirée de gala des entreprises alimentaires du Centre – Val de Loire
DESCRIPTION:La Halle aux Grains de Blois \n\n\n\n\nProgramme et inscription
URL:https://area-centre.org/evenement/soiree-de-gala-des-entreprises-alimentaires-du-centre-val-de-loire/
CATEGORIES:Événement
END:VEVENT
BEGIN:VEVENT
DTSTART;TZID=Europe/Paris:20260907T090000
DTEND;TZID=Europe/Paris:20260908T123000
DTSTAMP:20260421T114938
CREATED:20251210T065857Z
LAST-MODIFIED:20251210T065920Z
UID:20487-1788771600-1788870600@area-centre.org
SUMMARY:La gestion des RPS en entreprise : Détecter et prévenir le harcèlement
DESCRIPTION:Objectifs \n\n\n\n• Appréhender les notions de RPS pour adopter les bons comportements \n\n\n\n• Déployer des actions concrètes de prévention pour limiter les risques liés aux RPS \n\n\n\n• Gérer efficacement les situations de harcèlement et accompagner les victimes \n\n\n\nPublic visé \n\n\n\nDirigeants\, RH\, Managers\, Collaborateurs \n\n\n\nIntervenant \n\n\n\nManager consultant au sein du cabinet Actiforces \n\n\n\nDurée \n\n\n\n2 sessions de 3h30 (soit 7h) en distanciel (9h à 12h30) \n\n\n\n\nVoir Programme / Coût
URL:https://area-centre.org/evenement/la-gestion-des-rps-en-entreprise-detecter-et-prevenir-le-harcelement/
CATEGORIES:Formation
END:VEVENT
BEGIN:VEVENT
DTSTART;TZID=Europe/Paris:20260908T090000
DTEND;TZID=Europe/Paris:20260909T163000
DTSTAMP:20260421T114938
CREATED:20251210T070252Z
LAST-MODIFIED:20251210T070309Z
UID:20489-1788858000-1788971400@area-centre.org
SUMMARY:Maîtrisez vos réglages mécaniques Niveau 2 maintenance
DESCRIPTION:Objectifs \n\n\n\n• Contrôler et régler des ensembles mécaniques par rapport à une conformité fonctionnelle \n\n\n\nPublic visé \n\n\n\nAgents de maintenance (électriciens) ou de production (régleurs…) chargés d’effectuer des opérations de réglage de niveaux 2 en mécanique \n\n\n\nIntervenant \n\n\n\nFormateur expert au sein du CIMI \n\n\n\nDurée \n\n\n\n2 sessions de 7h (soit 14h) en présentiel à Blois (9h à 16h30) \n\n\n\n\nVoir Programme / Coût
URL:https://area-centre.org/evenement/maitrisez-vos-reglages-mecaniques-niveau-2-maintenance-4/
CATEGORIES:Formation
END:VEVENT
BEGIN:VEVENT
DTSTART;TZID=Europe/Paris:20260909T090000
DTEND;TZID=Europe/Paris:20260910T163000
DTSTAMP:20260421T114938
CREATED:20251210T070522Z
LAST-MODIFIED:20251210T070545Z
UID:20495-1788944400-1789057800@area-centre.org
SUMMARY:Introduction à la robotique industrielle
DESCRIPTION:Objectifs \n\n\n\n• Identifier les différents types de robots industriels et leurs applications \n\n\n\n• Comprendre les notions de repères\, d’outils et de trajectoires \n\n\n\n• Identifier les types de solutions de gestion de la sécurité \n\n\n\nPublic visé \n\n\n\nToute personne désirant découvrir la robotique \n\n\n\nIntervenant \n\n\n\nFormateur expert au sein du CIMI \n\n\n\nDurée \n\n\n\n2 sessions de 7h (soit 14h) en présentiel à Blois (9h à 16h30) \n\n\n\n\nVoir Programme / Coût
URL:https://area-centre.org/evenement/introduction-a-la-robotique-industrielle-4/
CATEGORIES:Formation
END:VEVENT
BEGIN:VEVENT
DTSTART;TZID=Europe/Paris:20260910T090000
DTEND;TZID=Europe/Paris:20260911T163000
DTSTAMP:20260421T114938
CREATED:20251210T070737Z
LAST-MODIFIED:20251210T070752Z
UID:20499-1789030800-1789144200@area-centre.org
SUMMARY:Pré-diagnostic - Organisation de la production
DESCRIPTION:Objectifs \n\n\n\n• Effectuer de façon méthodologique des interventions de maintenance corrective \n\n\n\n• Optimiser la disponibilité des équipements à travers des interventions efficaces \n\n\n\nPublic visé \n\n\n\nConducteurs / Régleurs chargés d’effectuer des opérations de niveau 2 de maintenance \n\n\n\nIntervenant \n\n\n\nFormateur expert au sein du CIMI \n\n\n\nDurée \n\n\n\n2 sessions de 7h (soit 14h) en présentiel à Blois (9h à 16h30) \n\n\n\n\nVoir Programme / Coût
URL:https://area-centre.org/evenement/pre-diagnostic-organisation-de-la-production-4/
CATEGORIES:Formation
END:VEVENT
BEGIN:VEVENT
DTSTART;TZID=Europe/Paris:20260914T133000
DTEND;TZID=Europe/Paris:20260915T170000
DTSTAMP:20260421T114938
CREATED:20251210T071157Z
LAST-MODIFIED:20251210T071250Z
UID:20503-1789392600-1789491600@area-centre.org
SUMMARY:Comment lutter contre les fraudes alimentaires
DESCRIPTION:Objectifs \n\n\n\n• Identifier les différents types de fraudes alimentaires (authenticité\, poids des produits\, origines des ingrédients…) \n\n\n\n• Identifier et évaluer les risques liés aux fraudes alimentaires \n\n\n\n• Acquérir une méthode de prévention pour se prémunir des risques de fraude \n\n\n\n• Expérimenter des dispositifs de contrôle existants (audits\, analyses) \n\n\n\nPublic visé \n\n\n\nResponsable qualité\, acheteur\, responsable d’entreprise \n\n\n\nIntervenant \n\n\n\nIngénieur expert du CTCPA \n\n\n\nDurée \n\n\n\n2 sessions de 3h30 (soit 7h) en distanciel (13h30 à 17h) \n\n\n\n\nVoir Programme / Coût
URL:https://area-centre.org/evenement/comment-lutter-contre-les-fraudes-alimentaires-3/
CATEGORIES:Formation
END:VEVENT
BEGIN:VEVENT
DTSTART;TZID=Europe/Paris:20260915T090000
DTEND;TZID=Europe/Paris:20260916T163000
DTSTAMP:20260421T114938
CREATED:20251210T071822Z
LAST-MODIFIED:20251210T071842Z
UID:20508-1789462800-1789576200@area-centre.org
SUMMARY:Les fondamentaux sur les usages d’énergies
DESCRIPTION:Objectifs \n\n\n\n• Identifier les équipements intervenants dans la production des utilités \n\n\n\n• Quantifier les flux génétiques et l’efficacité des réseaux électriques et fluides \n\n\n\nPublic visé \n\n\n\nResponsables et techniciens des services maintenance\, moyens généraux\, sécurité\, environnement\, acheteurs techniques\, personnels en charge de la sécurité et de l’optimisation des consommations énergétiques des réseaux et utilités \n\n\n\nIntervenant \n\n\n\nFormateur expert au sein du CIMI \n\n\n\nDurée \n\n\n\n2 sessions de 7h (soit 14h) en présentiel à Blois (9h à 16h30) \n\n\n\n\nVoir Programme / Coût
URL:https://area-centre.org/evenement/les-fondamentaux-sur-les-usages-denergies-4/
CATEGORIES:Formation
END:VEVENT
BEGIN:VEVENT
DTSTART;TZID=Europe/Paris:20260917T090000
DTEND;TZID=Europe/Paris:20260917T120000
DTSTAMP:20260421T114938
CREATED:20251210T072117Z
LAST-MODIFIED:20251210T072137Z
UID:20512-1789635600-1789646400@area-centre.org
SUMMARY:Nutrition en horaires décalés
DESCRIPTION:Objectifs \n\n\n\n• Accompagner les collaborateurs\, en leur donnant des outils et des gestes pratiques pour mieux manger en horaires décalés\, en fonction de leurs contraintes\, de leurs goûts propres et de l’environnement dans lequel ils évoluent. \n\n\n\nPublic visé \n\n\n\nCollaborateurs travaillant en horaires décalés (de nuit\, le matin tôt ou l’après-midi et soirée) \n\n\n\nIntervenant \n\n\n\nConsultant au sein du cabinet Nutrimarketing \n\n\n\nDurée \n\n\n\n1 session de 3h en distanciel (9h à 12h) \n\n\n\n\nVoir Programme / Coût
URL:https://area-centre.org/evenement/nutrition-en-horaires-decales/
CATEGORIES:Formation
END:VEVENT
BEGIN:VEVENT
DTSTART;TZID=Europe/Paris:20260921T133000
DTEND;TZID=Europe/Paris:20260923T120000
DTSTAMP:20260421T114938
CREATED:20251210T072352Z
LAST-MODIFIED:20251210T072353Z
UID:20518-1789997400-1790164800@area-centre.org
SUMMARY:Vision Keyence : maintenance d’une application
DESCRIPTION:Objectifs \n\n\n\n• Identifier les causes d’un mauvais fonctionnement \n\n\n\n• Régler les outils de détection \n\n\n\n• Sauvegarder et restaurer une application \n\n\n\n• Remplacer ou recaler une caméra \n\n\n\nPublic visé \n\n\n\nTechniciens appelés à intervenir sur systèmes de vision industrielle \n\n\n\nIntervenant \n\n\n\nFormateur expert au sein du CIMI \n\n\n\nDurée \n\n\n\n2 sessions de 7h (soit 14h) en présentiel à Blois (9h à 16h30) \n\n\n\n\nVoir Programme / Coût
URL:https://area-centre.org/evenement/vision-keyence-maintenance-dune-application-4/
CATEGORIES:Formation
END:VEVENT
BEGIN:VEVENT
DTSTART;TZID=Europe/Paris:20260924T133000
DTEND;TZID=Europe/Paris:20260925T170000
DTSTAMP:20260421T114938
CREATED:20251210T072659Z
LAST-MODIFIED:20251210T072720Z
UID:20523-1790256600-1790355600@area-centre.org
SUMMARY:Matériaux et Emballages au Contact des Denrées Alimentaires : exigences réglementaires
DESCRIPTION:Objectifs \n\n\n\n• Identifier la réglementation sur les MCDA \n\n\n\n• Analyser les déclarations d’alimentarité \n\n\n\n• Reconnaître les preuves de conformité (testes et analyses) \n\n\n\nPublic visé \n\n\n\nService qualité\, R&D\, Production\, Packaging\, Achats \n\n\n\nIntervenant \n\n\n\nIngénieur au sein de Mérieux NutriSciences \n\n\n\nDurée \n\n\n\n2 sessions de 3h30 (soit 7h) en distanciel (13h30 à 17h) \n\n\n\n\nVoir Programme / Coût
URL:https://area-centre.org/evenement/materiaux-et-emballages-au-contact-des-denrees-alimentaires-exigences-reglementaires/
CATEGORIES:Formation
END:VEVENT
BEGIN:VEVENT
DTSTART;TZID=Europe/Paris:20260928T133000
DTEND;TZID=Europe/Paris:20260929T170000
DTSTAMP:20260421T114938
CREATED:20260330T123154Z
LAST-MODIFIED:20260330T123156Z
UID:20958-1790602200-1790701200@area-centre.org
SUMMARY:La norme FSSC 22000 v6 : exigences et applications
DESCRIPTION:Objectifs \n\n\n\n• Identifier les enjeux et exigences de la norme FSSC 22000 version 6 \n\n\n\n• Comparer les attentes de la FSSC 22000 à ce qui est mis en place dans l’entreprise \n\n\n\nPublic visé \n\n\n\nResponsable qualité\, collaborateurs de services qualité et des autres services \n\n\n\nIntervenant \n\n\n\nIngénieur expert du CTCPA \n\n\n\nDurée \n\n\n\n2 sessions de 3h30 (soit 7h) en distanciel (13h30 à 17h) \n\n\n\n\nVoir Programme / Coût
URL:https://area-centre.org/evenement/la-norme-fssc-22000-v6-exigences-et-applications-2/
CATEGORIES:Formation
END:VEVENT
BEGIN:VEVENT
DTSTART;TZID=Europe/Paris:20261005T090000
DTEND;TZID=Europe/Paris:20261006T170000
DTSTAMP:20260421T114938
CREATED:20251210T073755Z
LAST-MODIFIED:20251210T073756Z
UID:20531-1791190800-1791306000@area-centre.org
SUMMARY:Sauveteur Secouriste du Travail (SST)
DESCRIPTION:Objectifs \n\n\n\n• Intervenir efficacement face à une situation d’accident du travail \n\n\n\n• Mettre en application leurs compétences en matière de prévention au profit de la santé et de la sécurité au travail\, dans le respect de l’organisation de l’entreprise et des procédures spécifiques fixées \n\n\n\nPublic visé \n\n\n\nOuvert à tous \n\n\n\nIntervenant \n\n\n\nChristophe PAUMIER-GASSE – Titulaire du certificat de formateur SST au sein de SOVIGRO \n\n\n\nDurée \n\n\n\n2 sessions de 7h en présentiel à Orléans (9h à 17h) \n\n\n\n\nVoir Programme / Coût
URL:https://area-centre.org/evenement/sauveteur-secouriste-du-travail-sst-2/
CATEGORIES:Formation
END:VEVENT
BEGIN:VEVENT
DTSTART;TZID=Europe/Paris:20261005T133000
DTEND;TZID=Europe/Paris:20261006T170000
DTSTAMP:20260421T114938
CREATED:20251210T073007Z
LAST-MODIFIED:20251210T073037Z
UID:20528-1791207000-1791306000@area-centre.org
SUMMARY:Food Safety Culture
DESCRIPTION:Objectifs \n\n\n\n• Expliquer le concept de Food safety culture \n\n\n\n• Savoir mettre en place les principes dans son entreprise \n\n\n\n• Savoir utiliser les outils d’autodiagnostic \n\n\n\n• Mettre en place un plan d’actions \n\n\n\nPublic visé \n\n\n\nPersonnes des services qualité\, sécurité des aliments et productionPersonnel d’encadrement tout service \n\n\n\nIntervenant \n\n\n\nIngénieur expert du CTCPA \n\n\n\nDurée \n\n\n\n2 sessions de 3h30 (soit 7h) en distanciel (13h30 à 17h) \n\n\n\n\nVoir Programme / Coût
URL:https://area-centre.org/evenement/food-safety-culture-3/
CATEGORIES:Formation
END:VEVENT
BEGIN:VEVENT
DTSTART;TZID=Europe/Paris:20261014T133000
DTEND;TZID=Europe/Paris:20261016T120000
DTSTAMP:20260421T114938
CREATED:20251210T074011Z
LAST-MODIFIED:20251210T074026Z
UID:20538-1791984600-1792152000@area-centre.org
SUMMARY:Vision Cognex : maintenance d’une application
DESCRIPTION:Objectifs \n\n\n\n• Identifier les causes d’un mauvais fonctionnement \n\n\n\n• Exploiter Insight Explorer ou EasyBuilder selon le modèle de caméra : régler des outils de détection\, sauvegarder / restaurer une application \n\n\n\n• Remplacer ou recaler une caméra \n\n\n\nPublic visé \n\n\n\nTechniciens appelés à intervenir sur systèmes de vision industrielle \n\n\n\nIntervenant \n\n\n\nFormateur expert au sein du CIMI \n\n\n\nDurée \n\n\n\n2 sessions de 7h (soit 14h) en présentiel à Blois (9h à 16h30) \n\n\n\n\nVoir Programme / Coût
URL:https://area-centre.org/evenement/vision-cognex-maintenance-dune-application-4/
CATEGORIES:Formation
END:VEVENT
BEGIN:VEVENT
DTSTART;TZID=Europe/Paris:20261102T133000
DTEND;TZID=Europe/Paris:20261103T170000
DTSTAMP:20260421T114938
CREATED:20251210T074309Z
LAST-MODIFIED:20251210T074336Z
UID:20542-1793626200-1793725200@area-centre.org
SUMMARY:Étiquetage des denrées alimentaires – Bases essentielles et approfondissement
DESCRIPTION:Objectifs \n\n\n\n• Définir les enjeux de la réglementation relative à l’étiquetage \n\n\n\n• Analyser les obligations en matière d’étiquetage des denrées sur les points particuliers de dénomination\, liste des ingrédients\, les mentions d’origine et la déclaration nutritionnelle \n\n\n\nPublic visé \n\n\n\nService qualité\, R&D et marketing \n\n\n\nIntervenant \n\n\n\nIngénieur au sein de Mérieux NutriSciences \n\n\n\nDurée \n\n\n\n2 sessions de 3h30 (soit 7h) en distanciel (13h30 à 17h) \n\n\n\n\nVoir Programme / Coût
URL:https://area-centre.org/evenement/etiquetage-des-denrees-alimentaires-bases-essentielles-et-approfondissement-2/
CATEGORIES:Formation
END:VEVENT
BEGIN:VEVENT
DTSTART;TZID=Europe/Paris:20261103T090000
DTEND;TZID=Europe/Paris:20261103T170000
DTSTAMP:20260421T114938
CREATED:20251210T074645Z
LAST-MODIFIED:20251210T074722Z
UID:20546-1793696400-1793725200@area-centre.org
SUMMARY:Les clés du droit du travail pour les dirigeants et les managers
DESCRIPTION:Objectifs \n\n\n\n• Comprendre les fondamentaux du droit du travail pour une application concrète au quotidien \n\n\n\n• Sécuriser les relations de travail de l’embouche à la rupture \n\n\n\n• Connaître ses droits et devoirs dans les situations courantes de management \n\n\n\n• Devenir un véritable relai de la direction \n\n\n\nPublic visé \n\n\n\nDirigeant\, directeur d’établissement\, responsable de service\, manager\, professionnel des ressources humaines \n\n\n\nIntervenant \n\n\n\nManager consultant au sein du cabinet Actiforces \n\n\n\nDurée \n\n\n\n1 session de 7h en présentiel à Orléans (9h à 17h) \n\n\n\n\nVoir Programme / Coût
URL:https://area-centre.org/evenement/les-cles-du-droit-du-travail-pour-les-dirigeants-et-les-managers/
CATEGORIES:Formation
END:VEVENT
BEGIN:VEVENT
DTSTART;TZID=Europe/Paris:20261116T133000
DTEND;TZID=Europe/Paris:20261116T170000
DTSTAMP:20260421T114938
CREATED:20251210T074941Z
LAST-MODIFIED:20251210T075002Z
UID:20550-1794835800-1794848400@area-centre.org
SUMMARY:La méthode de validation des mesures de maîtrise
DESCRIPTION:Objectifs \n\n\n\n• Identifier les critères permettant de choisir les mesures de maîtrise à valider \n\n\n\n• Identifier la méthodologie à suivre pour réaliser une validation \n\n\n\n• Décrire la méthode de validation pour une mesure de maîtrise choisie \n\n\n\nPublic visé \n\n\n\nResponsable qualité\, responsable travaux neuf / maintenance \n\n\n\nIntervenant \n\n\n\nIngénieur expert du CTCPA \n\n\n\nDurée \n\n\n\n1 session de 3h30 en distanciel (13h30 à 17h) \n\n\n\n\nVoir Programme / Coût
URL:https://area-centre.org/evenement/la-methode-de-validation-des-mesures-de-maitrise-2/
CATEGORIES:Formation
END:VEVENT
BEGIN:VEVENT
DTSTART;TZID=Europe/Paris:20261119T090000
DTEND;TZID=Europe/Paris:20261119T120000
DTSTAMP:20260421T114938
CREATED:20251210T075519Z
LAST-MODIFIED:20251210T075533Z
UID:20553-1795078800-1795089600@area-centre.org
SUMMARY:Marketing nutritionnel : comment détecter les atouts de vos produits et les mettre en avant en respectant la règlementation
DESCRIPTION:Objectifs \n\n\n\n• Donner des bases scientifiques et réglementaires aux professionnels de l’agroalimentaire pour développer des produits plus sains\, pour communiquer aux consommateurs comme aux commerciaux et distributeurs \n\n\n\nPublic visé \n\n\n\nDirigeants\, R&D\, Marketing\, Responsable Innovation\, Commerciaux \n\n\n\nIntervenant \n\n\n\nConsultant au sein du cabinet Nutrimarketing \n\n\n\nDurée \n\n\n\n1 session de 3h en distanciel (9h à 12h) \n\n\n\n\nVoir Programme / Coût
URL:https://area-centre.org/evenement/marketing-nutritionnel-comment-detecter-les-atouts-de-vos-produits-et-les-mettre-en-avant-en-respectant-la-reglementation/
CATEGORIES:Formation
END:VEVENT
BEGIN:VEVENT
DTSTART;TZID=Europe/Paris:20261123T133000
DTEND;TZID=Europe/Paris:20261124T170000
DTSTAMP:20260421T114938
CREATED:20251210T075821Z
LAST-MODIFIED:20260414T121647Z
UID:20557-1795440600-1795539600@area-centre.org
SUMMARY:Optimisez la gestion de la ressource en eau : réduction et réutilisation
DESCRIPTION:Objectifs \n\n\n\n• Identifier le contexte réglementaire de l’utilisation et de la réutilisation de l’eau dans les entreprises agroalimentaires \n\n\n\n• Identifier les enjeux de la réutilisation de l’eau \n\n\n\n• Être capable de réaliser un diagnostic eau dans son entreprise \n\n\n\n• Citer les principes de la méthode Pinch Eau et savoir utiliser les outils pour optimiser l’utilisation et la réutilisation de l’eau en industrie agroalimentaire \n\n\n\nPublic visé \n\n\n\nToute personne impliquée dans la mise en oeuvre du système de management environnemental d’une entreprise agroalimentaire \n\n\n\nIntervenant \n\n\n\nIngénieur expert du CTCPA \n\n\n\nDurée \n\n\n\n2 sessions de 3h30 (soit 7h) en distanciel (13h30 à 17h) \n\n\n\n\nVoir Programme / Coût
URL:https://area-centre.org/evenement/optimisez-la-gestion-de-la-ressource-en-eau-reduction-et-reutilisation-2/
CATEGORIES:Formation
END:VEVENT
END:VCALENDAR